BEGIN:VCALENDAR
VERSION:2.0
PRODID:-//Windsurfer Class - ECPv6.2.9//NONSGML v1.0//EN
CALSCALE:GREGORIAN
METHOD:PUBLISH
X-WR-CALNAME:Windsurfer Class
X-ORIGINAL-URL:https://windsurferclass.com
X-WR-CALDESC:Events for Windsurfer Class
REFRESH-INTERVAL;VALUE=DURATION:PT1H
X-Robots-Tag:noindex
X-PUBLISHED-TTL:PT1H
BEGIN:VTIMEZONE
TZID:Europe/Rome
BEGIN:DAYLIGHT
TZOFFSETFROM:+0100
TZOFFSETTO:+0200
TZNAME:CEST
DTSTART:20220327T010000
END:DAYLIGHT
BEGIN:STANDARD
TZOFFSETFROM:+0200
TZOFFSETTO:+0100
TZNAME:CET
DTSTART:20221030T010000
END:STANDARD
END:VTIMEZONE
BEGIN:VEVENT
DTSTART;TZID=Europe/Rome:20220331T090000
DTEND;TZID=Europe/Rome:20220403T170000
DTSTAMP:20260421T154733
CREATED:20220114T102411Z
LAST-MODIFIED:20220124T112220Z
UID:10000374-1648717200-1649005200@windsurferclass.com
SUMMARY:Open internacional Windsurfer class Mar Menor
DESCRIPTION:NACIONAL-WS22\nCAR MURCIA\nAv. Mariano Ballester\, 2\,\n30710 Los Alcázares\, MURCIA\nhttp://carmurcia.es/  http://fvrm.sailti.com/es/default/races
URL:https://windsurferclass.com/event/open-internacional-windsurfer-class-mar-menor/
LOCATION:CAR MURCIA\, Q535+RV Los Alcázares\, Spagna\, Spain
CATEGORIES:National Event
END:VEVENT
BEGIN:VEVENT
DTSTART;TZID=Europe/Rome:20220402T090000
DTEND;TZID=Europe/Rome:20220403T170000
DTSTAMP:20260421T154733
CREATED:20220119T091817Z
LAST-MODIFIED:20220119T093430Z
UID:10000296-1648890000-1649005200@windsurferclass.com
SUMMARY:Stage / Ecole Nationale De Voile
DESCRIPTION:Baie De Quiberon\, Saint Pierre Quiberon\, Morbihan (56) \nEcole National De Voile / Ass Windsurfer Class France \n02/04/2022 9:00 AM 03/04/2022 5:00 PM National Event \n06 08 42 94 70 WWW.ENVSN.SPORTS.GOUV.FR \nwindsurferclassfrance@gmail.com
URL:https://windsurferclass.com/event/stage-ecole-nationale-de-voile/
CATEGORIES:National Event
END:VEVENT
BEGIN:VEVENT
DTSTART;TZID=Europe/Rome:20220409T080000
DTEND;TZID=Europe/Rome:20220410T170000
DTSTAMP:20260421T154733
CREATED:20211220T084021Z
LAST-MODIFIED:20220302T193449Z
UID:10000366-1649491200-1649610000@windsurferclass.com
SUMMARY:Windsurfer Spring Cup 2022
DESCRIPTION:3rd Italian National Race\nAnzio(Rome)\n  \nNOTICE OF RACE (download) \nREGISTRATIONS:\n– Italian sailors can register on bit.ly/springcup2022 or through the app MYFEDERVELA\n– Foreigner sailors can register on bit.ly/springcup2022 \nWHATSAPP GROUP: bit.ly/gruppospringcup \nCHARTER BOARDS: can be requested during registration on bit.ly/springcup2022 \nINFO ON ACCOMODATIONS: see notice of race (bit.ly/SpringCupNOR22) \n 
URL:https://windsurferclass.com/event/windsurfer-spring-cup-2022/
LOCATION:Eastbay Yachting Club Anzio\, Riviera Zanardelli\, Anzio\, Roma\, 00042\, Italy
CATEGORIES:National Championships
END:VEVENT
BEGIN:VEVENT
DTSTART;TZID=Europe/Rome:20220409T090000
DTEND;TZID=Europe/Rome:20220409T170000
DTSTAMP:20260421T154733
CREATED:20220119T091818Z
LAST-MODIFIED:20220119T094526Z
UID:10000297-1649494800-1649523600@windsurferclass.com
SUMMARY:Acte 01 / Challenge Windsurfer OGS
DESCRIPTION:Lac Du Puythouck\, Grande Synthe\, Nord (59) \nOGS Voile \n09/04/2022 9:00 AM 09/04/2022 5:00 PM \nRégional Challenge \n03 28 21 85 74 \nWWW.OGSVOILE.FR \ncontact@ogsvoile.fr
URL:https://windsurferclass.com/event/acte-01-challenge-windsurfer-ogs/
CATEGORIES:Regional Challenge
END:VEVENT
BEGIN:VEVENT
DTSTART;TZID=Europe/Rome:20220415T090000
DTEND;TZID=Europe/Rome:20220418T170000
DTSTAMP:20260421T154733
CREATED:20220114T102412Z
LAST-MODIFIED:20220124T111748Z
UID:10000375-1650013200-1650301200@windsurferclass.com
SUMMARY:Copa de España Windsurfer 2022
DESCRIPTION:NATIONAL CHAMPIONSHIP\nCLUB VELA BLANES\nEsplanada del Port s/n\n17300 Blanes- GIRONA\nhttps://www.cvblanes.cat/es\nclub@cvblanes.cat\n(+34) 972 330 552
URL:https://windsurferclass.com/event/copa-de-espana-windsurfer-2022/
LOCATION:CLUB VELA BLANES\, MQGW+6R Blanes\, España\, Spain
CATEGORIES:National Championships
END:VEVENT
BEGIN:VEVENT
DTSTART;TZID=Europe/Rome:20220423T090000
DTEND;TZID=Europe/Rome:20220424T170000
DTSTAMP:20260421T154733
CREATED:20220119T100341Z
LAST-MODIFIED:20220119T111353Z
UID:10000387-1650704400-1650819600@windsurferclass.com
SUMMARY:Longue Distance - Régates En Baie De Morlaix
DESCRIPTION:Baie De Morlaix\, Carantec\, Finistère (29) \nClub Nautique De Carantec \n23/04/2022 9:00 AM 24/04/2022 5:00 PM \n06.64.97.93.76 \nWWW.CLUBNAUTIQUECARANTEC.COM \nclub.nautique.carantec@wanadoo.fr
URL:https://windsurferclass.com/event/longue-distance-rgates-en-baie-de-morlaix-2/
CATEGORIES:National Event
END:VEVENT
BEGIN:VEVENT
DTSTART;TZID=Europe/Rome:20220430T080000
DTEND;TZID=Europe/Rome:20220501T170000
DTSTAMP:20260421T154733
CREATED:20220124T105239Z
LAST-MODIFIED:20220412T082254Z
UID:10000406-1651305600-1651424400@windsurferclass.com
SUMMARY:Vindicio Italian National
DESCRIPTION:4th Italian National Race\nVindicio (Formia\, LT)\n  \nCircolo Nautico Caposele \nNOTICE OF RACE: https://bit.ly/vindicio22nor \nREGISTRATIONS AND CHARTERS: bit.ly/WSvindicio2022 \nWHATSAPP GROUP: bit.ly/vindicio2022 \nINFO ON ACCOMODATIONS: bit.ly/golfoonline \n 
URL:https://windsurferclass.com/event/vindicio-italian-national-2/
LOCATION:Vindicio\, 7H2V+34 Formia\, Provincia di Latina\, Italy
END:VEVENT
END:VCALENDAR