BEGIN:VCALENDAR
VERSION:2.0
PRODID:-//Windsurfer Class - ECPv6.2.9//NONSGML v1.0//EN
CALSCALE:GREGORIAN
METHOD:PUBLISH
X-WR-CALNAME:Windsurfer Class
X-ORIGINAL-URL:https://windsurferclass.com
X-WR-CALDESC:Events for Windsurfer Class
REFRESH-INTERVAL;VALUE=DURATION:PT1H
X-Robots-Tag:noindex
X-PUBLISHED-TTL:PT1H
BEGIN:VTIMEZONE
TZID:Europe/Rome
BEGIN:DAYLIGHT
TZOFFSETFROM:+0100
TZOFFSETTO:+0200
TZNAME:CEST
DTSTART:20220327T010000
END:DAYLIGHT
BEGIN:STANDARD
TZOFFSETFROM:+0200
TZOFFSETTO:+0100
TZNAME:CET
DTSTART:20221030T010000
END:STANDARD
END:VTIMEZONE
BEGIN:VEVENT
DTSTART;TZID=Europe/Rome:20220319T080000
DTEND;TZID=Europe/Rome:20220320T170000
DTSTAMP:20260421T170906
CREATED:20211220T083917Z
LAST-MODIFIED:20220216T090155Z
UID:10000365-1647676800-1647795600@windsurferclass.com
SUMMARY:Trofeo Gianfranco Gessa
DESCRIPTION:2nd Italian National Race\nCagliari (CA)\n  \nNOTICE OF RACE (download) \nREGISTRATIONS:\n– Italian sailors can register through the app MYFEDERVELA\n– Foreigner sailors can register on bit.ly/cagliari2022 \nWHATSAPP GROUP: bit.ly/gruppocagliari \nCHARTER BOARDS: bit.ly/cagliari2022 \nINFO ON ACCOMODATIONS:  \n– Hotel Nautilus: Viale Lungo Mare Poetto\, 158 – mail hotelnautiluspoetto@gmail.com\n– Villabeachcity – Via dei Villini\, 70 – +393343062433 – bnbvillabeachcity.com\n– Cagliati Charming Accomodation – +39 3358125881 – http://www.cagliariaccommodations.com/ \nFurther info can be requested to regate@windsurfingclub.it or in the dedicated whatsapp group bit.ly/gruppocagliari \n  \n \n  \n 
URL:https://windsurferclass.com/event/trofeo-gianfranco-gessa/
LOCATION:Windsurfing Club Cagliari\, Via Marina Piccola\, Cagliari\, 09126\, Italy
CATEGORIES:National Event
GEO:39.194129059019;9.1593587153446
X-APPLE-STRUCTURED-LOCATION;VALUE=URI;X-ADDRESS=Windsurfing Club Cagliari Via Marina Piccola Cagliari 09126 Italy;X-APPLE-RADIUS=500;X-TITLE=Via Marina Piccola:geo:9.1593587153446,39.194129059019
END:VEVENT
BEGIN:VEVENT
DTSTART;TZID=Europe/Rome:20220319T090000
DTEND;TZID=Europe/Rome:20220320T170000
DTSTAMP:20260421T170906
CREATED:20220114T102409Z
LAST-MODIFIED:20220312T202917Z
UID:10000372-1647680400-1647795600@windsurferclass.com
SUMMARY:I Windsurfer Delta Experience
DESCRIPTION:TERRIT-CAT\nCLUB NÀUTIC SANT CARLES DE LA RÀPITA\nAvinguda dels Alfacs\, 2\,\n43540 Sant Carles de la Ràpita\, TARRAGONA \nTravesia por la zona del delta del Ebro \nDOWNLOAD PROGRAM \n 
URL:https://windsurferclass.com/event/i-windsurfer-delta-experience/
LOCATION:CLUB NÀUTIC SANT CARLES DE LA RÀPITA\, JH8V+JX Sant Carles de la Ràpita\, España
CATEGORIES:National Event
END:VEVENT
BEGIN:VEVENT
DTSTART;TZID=Europe/Rome:20220331T090000
DTEND;TZID=Europe/Rome:20220403T170000
DTSTAMP:20260421T170906
CREATED:20220114T102411Z
LAST-MODIFIED:20220124T112220Z
UID:10000374-1648717200-1649005200@windsurferclass.com
SUMMARY:Open internacional Windsurfer class Mar Menor
DESCRIPTION:NACIONAL-WS22\nCAR MURCIA\nAv. Mariano Ballester\, 2\,\n30710 Los Alcázares\, MURCIA\nhttp://carmurcia.es/  http://fvrm.sailti.com/es/default/races
URL:https://windsurferclass.com/event/open-internacional-windsurfer-class-mar-menor/
LOCATION:CAR MURCIA\, Q535+RV Los Alcázares\, Spagna\, Spain
CATEGORIES:National Event
END:VEVENT
END:VCALENDAR