BEGIN:VCALENDAR
VERSION:2.0
PRODID:-//Windsurfer Class - ECPv6.2.9//NONSGML v1.0//EN
CALSCALE:GREGORIAN
METHOD:PUBLISH
X-ORIGINAL-URL:https://windsurferclass.com
X-WR-CALDESC:Events for Windsurfer Class
REFRESH-INTERVAL;VALUE=DURATION:PT1H
X-Robots-Tag:noindex
X-PUBLISHED-TTL:PT1H
BEGIN:VTIMEZONE
TZID:Europe/Rome
BEGIN:DAYLIGHT
TZOFFSETFROM:+0100
TZOFFSETTO:+0200
TZNAME:CEST
DTSTART:20180325T010000
END:DAYLIGHT
BEGIN:STANDARD
TZOFFSETFROM:+0200
TZOFFSETTO:+0100
TZNAME:CET
DTSTART:20181028T010000
END:STANDARD
BEGIN:DAYLIGHT
TZOFFSETFROM:+0100
TZOFFSETTO:+0200
TZNAME:CEST
DTSTART:20190331T010000
END:DAYLIGHT
BEGIN:STANDARD
TZOFFSETFROM:+0200
TZOFFSETTO:+0100
TZNAME:CET
DTSTART:20191027T010000
END:STANDARD
BEGIN:DAYLIGHT
TZOFFSETFROM:+0100
TZOFFSETTO:+0200
TZNAME:CEST
DTSTART:20200329T010000
END:DAYLIGHT
BEGIN:STANDARD
TZOFFSETFROM:+0200
TZOFFSETTO:+0100
TZNAME:CET
DTSTART:20201025T010000
END:STANDARD
BEGIN:DAYLIGHT
TZOFFSETFROM:+0100
TZOFFSETTO:+0200
TZNAME:CEST
DTSTART:20210328T010000
END:DAYLIGHT
BEGIN:STANDARD
TZOFFSETFROM:+0200
TZOFFSETTO:+0100
TZNAME:CET
DTSTART:20211031T010000
END:STANDARD
BEGIN:DAYLIGHT
TZOFFSETFROM:+0100
TZOFFSETTO:+0200
TZNAME:CEST
DTSTART:20220327T010000
END:DAYLIGHT
BEGIN:STANDARD
TZOFFSETFROM:+0200
TZOFFSETTO:+0100
TZNAME:CET
DTSTART:20221030T010000
END:STANDARD
END:VTIMEZONE
BEGIN:VEVENT
DTSTART;TZID=Europe/Rome:20220409T080000
DTEND;TZID=Europe/Rome:20220410T170000
DTSTAMP:20260420T004924
CREATED:20211220T084021Z
LAST-MODIFIED:20220302T193449Z
UID:10000366-1649491200-1649610000@windsurferclass.com
SUMMARY:Windsurfer Spring Cup 2022
DESCRIPTION:3rd Italian National Race\nAnzio(Rome)\n  \nNOTICE OF RACE (download) \nREGISTRATIONS:\n– Italian sailors can register on bit.ly/springcup2022 or through the app MYFEDERVELA\n– Foreigner sailors can register on bit.ly/springcup2022 \nWHATSAPP GROUP: bit.ly/gruppospringcup \nCHARTER BOARDS: can be requested during registration on bit.ly/springcup2022 \nINFO ON ACCOMODATIONS: see notice of race (bit.ly/SpringCupNOR22) \n 
URL:https://windsurferclass.com/event/windsurfer-spring-cup-2022/
LOCATION:Eastbay Yachting Club Anzio\, Riviera Zanardelli\, Anzio\, Roma\, 00042\, Italy
CATEGORIES:National Championships
END:VEVENT
BEGIN:VEVENT
DTSTART;TZID=Europe/Rome:20210916T080000
DTEND;TZID=Europe/Rome:20210919T170000
DTSTAMP:20260420T004924
CREATED:20210104T221603Z
LAST-MODIFIED:20210526T020443Z
UID:10000352-1631779200-1632070800@windsurferclass.com
SUMMARY:47th Windsurfer Italian Championships
DESCRIPTION:47° CAMPIONATI NAZIONALI CLASSE WINDSURFER\nSeptember 16-19\, 2021\nPittulongu (III Zona)\nCircolo Nautico Olbia ASD\, Italy \nREGISTRATIONS: bit.ly/47th-WS-championships\nNOTICE OF RACE: bit.ly/Pittulongu2021WS\nOFFICIAL WHATSAPP GROUP: bit.ly/GruppoItaliano2021\n  \nCircolo Nautico Olbia ASD\nvia Principe Umberto – Molo Brin\n07026 – Olbia (SS)\nTEL +39 327 9852177\ninfo@circolonauticoolbia.it \nEvent Location\nVillaggio regate presso Spiaggia di Pittulongu\nVia Tramontana\n07026 Olbia (SS)\nLAT.40.93692367903521\, LONG 9.5674225417141 \n \n 
URL:https://windsurferclass.com/event/47th-windsurfer-italian-championships/
LOCATION:Pittulongu Beach\, Olbia\, Via Tramontana\, Olbia\, SS\, 07026\, Italy
CATEGORIES:National Championships
GEO:40,936923679035;9,5674225417141
X-APPLE-STRUCTURED-LOCATION;VALUE=URI;X-ADDRESS=Pittulongu Beach Olbia Via Tramontana Olbia SS 07026 Italy;X-APPLE-RADIUS=500;X-TITLE=Via Tramontana:geo:9,5674225417141,40,936923679035
END:VEVENT
BEGIN:VEVENT
DTSTART;TZID=Europe/Rome:20210909T080000
DTEND;TZID=Europe/Rome:20210912T170000
DTSTAMP:20260420T004924
CREATED:20210202T101315Z
LAST-MODIFIED:20210817T062949Z
UID:10000358-1631174400-1631466000@windsurferclass.com
SUMMARY:2nd Windsurfer Czech Cup
DESCRIPTION:REGISTRATION: https://www.czechwindsurfer.cz/page2.html\nNOTICE OF RACE: download \n 
URL:https://windsurferclass.com/event/2nd-windsurfer-czech-cup/
LOCATION:Lipno Lake\, Czech Republic
CATEGORIES:National Championships
END:VEVENT
BEGIN:VEVENT
DTSTART;TZID=Europe/Rome:20210722T080000
DTEND;TZID=Europe/Rome:20210725T170000
DTSTAMP:20260420T004924
CREATED:20210104T203633Z
LAST-MODIFIED:20210709T091854Z
UID:10000264-1626940800-1627232400@windsurferclass.com
SUMMARY:France National Championships
DESCRIPTION:Erquy\, France \nRegister Here (Charter boards are available)\nNotice of race: DOWNLOAD\n\nClub Organisateur\nClub de Voile de la Baie d’Erquy\nMaison de la mer – Le Port\n22430 ERQUY\ninfo@cvberquy.org\nhttps://cvberquy.org/windsurfer2021/\n\nHébergement\nOffice de Tourisme\n3 rue du 19 mars 1962\n22430 ERQUY\nTél. : +33 (0) 2 57 25 22 22\ninfo@capderquy-valandre.com\nhttps://www.capderquy-valandre.com/erquy
URL:https://windsurferclass.com/event/france-national-championships/
LOCATION:Centre Nautique D’Erquy\, Maison de la Mer\, Rue du Port\, 22430 Erquy\, Francia\, Erquy\, France\, 22430\, France
CATEGORIES:National Championships
END:VEVENT
BEGIN:VEVENT
DTSTART;TZID=Europe/Rome:20200919T080000
DTEND;TZID=Europe/Rome:20200920T170000
DTSTAMP:20260420T004924
CREATED:20200111T181454Z
LAST-MODIFIED:20200430T160129Z
UID:10000331-1600502400-1600621200@windsurferclass.com
SUMMARY:UK - National Championships - Rutland SC
DESCRIPTION:
URL:https://windsurferclass.com/event/uk-national-championships-rutland-sc/
CATEGORIES:National Championships
END:VEVENT
BEGIN:VEVENT
DTSTART;TZID=Europe/Rome:20200917T080000
DTEND;TZID=Europe/Rome:20200920T170000
DTSTAMP:20260420T004924
CREATED:20200111T181040Z
LAST-MODIFIED:20200821T143839Z
UID:10000260-1600329600-1600621200@windsurferclass.com
SUMMARY:Italy - 46th National Championships - Cala Galera
DESCRIPTION:Pre-registrations and charter boards –> https://forms.gle/QKV1aeYoDJpw9jvq8 \n\nNOTICE OF RACE –> https://bit.ly/2Ecg8MU \nProvisional Entry List\n\n  \n 
URL:https://windsurferclass.com/event/italy-46th-national-championships-cala-galera/
CATEGORIES:National Championships
END:VEVENT
BEGIN:VEVENT
DTSTART;TZID=Europe/Rome:20200911T080000
DTEND;TZID=Europe/Rome:20200913T170000
DTSTAMP:20260420T004924
CREATED:20200111T180645Z
LAST-MODIFIED:20200430T160150Z
UID:10000259-1599811200-1600016400@windsurferclass.com
SUMMARY:Czech Republic - National Championships - Lipno Lake
DESCRIPTION:
URL:https://windsurferclass.com/event/czech-republic-national-championships-lipno-lake/
CATEGORIES:National Championships
END:VEVENT
BEGIN:VEVENT
DTSTART;TZID=Europe/Rome:20200904T080000
DTEND;TZID=Europe/Rome:20200906T170000
DTSTAMP:20260420T004924
CREATED:20200728T070639Z
LAST-MODIFIED:20200728T070845Z
UID:10000338-1599206400-1599411600@windsurferclass.com
SUMMARY:Windsurfer Dutch Open 2020
DESCRIPTION:Friday\, Saturday\, Sunday 4-6 September 2020 the Windsurfer LT Dutch Open 2020 will be held at the  Grevelingenmeer\, Brouwersdam in Zeeland\, The Dutch Organising Committee is WSV Plané\, located in Delft – the oldest windsurf club in the Netherlands – celebrating this year their 45th anniversary. \nOn this unique windsurf location\, we will compete for the Open Dutch championship in all disciplines\, Course Racing\, Slalom\, Freestyle and the Long Distance.\nWe offer a very nice programme\, with a lot of time and space for social events. Accommodation can be found near to the Race spot at Brouwersdam. Boards and riggs can be left behind during the race days. \nFor more information and registration: check www.windsurferclass.nl/do2020 \n\n  \n 
URL:https://windsurferclass.com/event/windsurfer-dutch-open-2020/
CATEGORIES:National Championships
ATTACH;FMTTYPE=image/jpeg:https://windsurferclass.com/wp-content/uploads/2020/07/windsurfer_poster_2020.jpg
END:VEVENT
BEGIN:VEVENT
DTSTART;TZID=Europe/Rome:20200904T080000
DTEND;TZID=Europe/Rome:20200906T170000
DTSTAMP:20260420T004924
CREATED:20200111T180157Z
LAST-MODIFIED:20200430T160202Z
UID:10000258-1599206400-1599411600@windsurferclass.com
SUMMARY:Austria - National Championships - Wallersee\, Seekirchen
DESCRIPTION:
URL:https://windsurferclass.com/event/austria-national-championships-wallersee-seekirchen/
CATEGORIES:National Championships
END:VEVENT
BEGIN:VEVENT
DTSTART;TZID=Europe/Rome:20200904T080000
DTEND;TZID=Europe/Rome:20200906T170000
DTSTAMP:20260420T004924
CREATED:20200111T175738Z
LAST-MODIFIED:20200430T160216Z
UID:10000257-1599206400-1599411600@windsurferclass.com
SUMMARY:France - National Championships - Saint-Cyr-sur-Mer
DESCRIPTION:
URL:https://windsurferclass.com/event/france-national-championships-saint-cyr-sur-mer/
CATEGORIES:National Championships
ATTACH;FMTTYPE=image/jpeg:https://windsurferclass.com/wp-content/uploads/2020/01/fra-champ.jpg
END:VEVENT
BEGIN:VEVENT
DTSTART;TZID=Europe/Rome:20190124T080000
DTEND;TZID=Europe/Rome:20190127T170000
DTSTAMP:20260420T004924
CREATED:20190119T194147Z
LAST-MODIFIED:20190119T194147Z
UID:10000287-1548316800-1548608400@windsurferclass.com
SUMMARY:Australian Championships
DESCRIPTION:Windsurfer Class Australian Championships
URL:https://windsurferclass.com/event/australian-championships/
CATEGORIES:National Championships
END:VEVENT
BEGIN:VEVENT
DTSTART;VALUE=DATE:20181026
DTEND;VALUE=DATE:20181029
DTSTAMP:20260420T004924
CREATED:20181025T185505Z
LAST-MODIFIED:20181025T185505Z
UID:10000272-1540512000-1540771199@windsurferclass.com
SUMMARY:Grimaldi Eurocup and Spanish National Championships
DESCRIPTION:[vc_row][vc_column width=”1/3″][mk_button dimension=”outline” corner_style=”full_rounded” size=”medium” icon=”mk-icon-file-pdf-o” url=”https://www.windsurferclass.com/wp-content/uploads/sites/20/2018/09/Notice-of-Race-Vilanova-WS-2018-Grimaldi-Eurocup-and-Spanish-Open-Championships-V9-FINAL.pdf” target=”_blank” nofollow=”true” fullwidth=”true” outline_skin=”custom” outline_active_color=”#001871″ outline_active_text_color=”#001871″ outline_hover_bg_color=”#001871″ outline_hover_color=”#fce300″]Notice of race[/mk_button][/vc_column][vc_column width=”1/3″][mk_button dimension=”outline” corner_style=”full_rounded” size=”medium” icon=”mk-icon-list-ol” url=”https://www.windsurferclass.com/wp-content/uploads/sites/20/2018/10/2018_windsurfer_eurocup_overall.pdf” target=”_blank” nofollow=”true” fullwidth=”true” outline_skin=”custom” outline_active_color=”#001871″ outline_active_text_color=”#001871″ outline_hover_bg_color=”#001871″ outline_hover_color=”#fce300″]Overall Results[/mk_button][/vc_column][vc_column width=”1/3″][mk_button dimension=”outline” corner_style=”full_rounded” size=”medium” icon=”mk-icon-list-ol” url=”https://www.windsurferclass.com/wp-content/uploads/sites/20/2018/10/2018_windsurfer_eurocup_categories.pdf” target=”_blank” nofollow=”true” fullwidth=”true” outline_skin=”custom” outline_active_color=”#001871″ outline_active_text_color=”#001871″ outline_hover_bg_color=”#001871″ outline_hover_color=”#fce300″]Categories Results[/mk_button][/vc_column][/vc_row][vc_row][vc_column][mk_blog posts=”6423″][/vc_column][/vc_row]
URL:https://windsurferclass.com/event/grimaldi-eurocup-and-spanish-national-championships/
CATEGORIES:European Championships,National Championships
ATTACH;FMTTYPE=image/jpeg:https://windsurferclass.com/wp-content/uploads/2018/10/ws_euroevent.jpg
END:VEVENT
END:VCALENDAR